BEGIN:VCALENDAR
METHOD:PUBLISH
VERSION:2.0
PRODID:-//hacksw/handcal//NONSGML v1.0//EN
BEGIN:VEVENT
DTSTAMP:20260424T120000
DTSTART:20260424T120000
DTEND:20260424T123000
SUMMARY:Inspection
LOCATION:26 Mill Road Buderim QLD 4556
DESCRIPTION:
UID:7850d037-a3a9-4cb4-be34-699028e3fb28@enlivenai.com.au
END:VEVENT
END:VCALENDAR
