BEGIN:VCALENDAR
METHOD:PUBLISH
VERSION:2.0
PRODID:-//hacksw/handcal//NONSGML v1.0//EN
BEGIN:VEVENT
DTSTAMP:20260425T150000
DTSTART:20260425T150000
DTEND:20260425T153000
SUMMARY:Inspection
LOCATION:9 Provost Street North Melbourne VIC 3051
DESCRIPTION:
UID:4c2b4efc-b4c9-4193-95c3-e003134fb16e@enlivenai.com.au
END:VEVENT
END:VCALENDAR
