BEGIN:VCALENDAR
METHOD:PUBLISH
VERSION:2.0
PRODID:-//hacksw/handcal//NONSGML v1.0//EN
BEGIN:VEVENT
DTSTAMP:20260424T190000
DTSTART:20260424T190000
DTEND:20260424T192000
SUMMARY:Inspection
LOCATION:3/5 Chandos  Street Ashfield NSW 2131
DESCRIPTION:
UID:9e6b2856-83a0-440a-8abb-b7651dce8de6@enlivenai.com.au
END:VEVENT
END:VCALENDAR
