BEGIN:VCALENDAR
METHOD:PUBLISH
VERSION:2.0
PRODID:-//hacksw/handcal//NONSGML v1.0//EN
BEGIN:VEVENT
DTSTAMP:20260505T130000
DTSTART:20260505T130000
DTEND:20260505T133000
SUMMARY:Inspection
LOCATION:60/24 Buchanan Street Balmain NSW 2041
DESCRIPTION:
UID:7fcb8e4c-495a-40ac-b59b-1e9710cbbb1b@enlivenai.com.au
END:VEVENT
END:VCALENDAR
