BEGIN:VCALENDAR
METHOD:PUBLISH
VERSION:2.0
PRODID:-//hacksw/handcal//NONSGML v1.0//EN
BEGIN:VEVENT
DTSTAMP:20260502T143000
DTSTART:20260502T143000
DTEND:20260502T150000
SUMMARY:Inspection
LOCATION:60/24 Buchanan Street Balmain NSW 2041
DESCRIPTION:
UID:5aa915dc-d8fd-41a9-81ac-2aacc2eff4e9@enlivenai.com.au
END:VEVENT
END:VCALENDAR
