BEGIN:VCALENDAR
METHOD:PUBLISH
VERSION:2.0
PRODID:-//hacksw/handcal//NONSGML v1.0//EN
BEGIN:VEVENT
DTSTAMP:20260430T130000
DTSTART:20260430T130000
DTEND:20260430T133000
SUMMARY:Inspection
LOCATION:60/24 Buchanan Street Balmain NSW 2041
DESCRIPTION:
UID:17595a5e-9374-421a-8ade-9ca8286f718d@enlivenai.com.au
END:VEVENT
END:VCALENDAR
