BEGIN:VCALENDAR
METHOD:PUBLISH
VERSION:2.0
PRODID:-//hacksw/handcal//NONSGML v1.0//EN
BEGIN:VEVENT
DTSTAMP:20260424T163000
DTSTART:20260424T163000
DTEND:20260424T170000
SUMMARY:Inspection
LOCATION:23 & 25 Twelfth Avenue Brighton QLD 4017
DESCRIPTION:
UID:6896fd21-9f22-42c1-90db-f05c8b09e1fd@enlivenai.com.au
END:VEVENT
END:VCALENDAR
