BEGIN:VCALENDAR
METHOD:PUBLISH
VERSION:2.0
PRODID:-//hacksw/handcal//NONSGML v1.0//EN
BEGIN:VEVENT
DTSTAMP:20260425T100000
DTSTART:20260425T100000
DTEND:20260425T103000
SUMMARY:Inspection
LOCATION:119 Grand Promenade Doubleview WA 6018
DESCRIPTION:
UID:f607dc63-5137-4cb2-b74e-66070efca8d3@enlivenai.com.au
END:VEVENT
END:VCALENDAR
