BEGIN:VCALENDAR
METHOD:PUBLISH
VERSION:2.0
PRODID:-//hacksw/handcal//NONSGML v1.0//EN
BEGIN:VEVENT
DTSTAMP:20260426T144500
DTSTART:20260426T144500
DTEND:20260426T151500
SUMMARY:Inspection
LOCATION:8 Addis Way Wandi WA 6167
DESCRIPTION:
UID:f091f369-851d-4ffd-b7b3-39f574e4f791@enlivenai.com.au
END:VEVENT
END:VCALENDAR
