BEGIN:VCALENDAR
METHOD:PUBLISH
VERSION:2.0
PRODID:-//hacksw/handcal//NONSGML v1.0//EN
BEGIN:VEVENT
DTSTAMP:20260428T123500
DTSTART:20260428T123500
DTEND:20260428T125000
SUMMARY:Inspection
LOCATION:7/32 Queens Road Melbourne VIC 3004
DESCRIPTION:
UID:f21bba9c-5862-4904-82bc-8597aa0162d1@enlivenai.com.au
END:VEVENT
END:VCALENDAR
