BEGIN:VCALENDAR
METHOD:PUBLISH
VERSION:2.0
PRODID:-//hacksw/handcal//NONSGML v1.0//EN
BEGIN:VEVENT
DTSTAMP:20260424T113500
DTSTART:20260424T113500
DTEND:20260424T115000
SUMMARY:Inspection
LOCATION:7/32 Queens Road Melbourne VIC 3004
DESCRIPTION:
UID:bdc4fba6-8c26-46e6-82a2-13f55510647a@enlivenai.com.au
END:VEVENT
END:VCALENDAR
