BEGIN:VCALENDAR
METHOD:PUBLISH
VERSION:2.0
PRODID:-//hacksw/handcal//NONSGML v1.0//EN
BEGIN:VEVENT
DTSTAMP:20260422T153000
DTSTART:20260422T153000
DTEND:20260422T160000
SUMMARY:Inspection
LOCATION:156 Eudlo School Road Eudlo QLD 4554
DESCRIPTION:
UID:72ae9aac-f186-4492-ba3a-2c1bf989b47e@enlivenai.com.au
END:VEVENT
END:VCALENDAR
