BEGIN:VCALENDAR
METHOD:PUBLISH
VERSION:2.0
PRODID:-//hacksw/handcal//NONSGML v1.0//EN
BEGIN:VEVENT
DTSTAMP:20260426T115000
DTSTART:20260426T115000
DTEND:20260426T122000
SUMMARY:Inspection
LOCATION:9 Rangeleigh  Court Mount Louisa QLD 4814
DESCRIPTION:
UID:13dbc141-8cb2-4375-907e-76e96d93e1c8@enlivenai.com.au
END:VEVENT
END:VCALENDAR
