BEGIN:VCALENDAR
METHOD:PUBLISH
VERSION:2.0
PRODID:-//hacksw/handcal//NONSGML v1.0//EN
BEGIN:VEVENT
DTSTAMP:20260426T124500
DTSTART:20260426T124500
DTEND:20260426T131500
SUMMARY:Inspection
LOCATION:G02/1 Stanhope Court South Yarra VIC 3141
DESCRIPTION:
UID:5b630790-6061-421e-b902-870d2bb55a8c@enlivenai.com.au
END:VEVENT
END:VCALENDAR
