BEGIN:VCALENDAR
METHOD:PUBLISH
VERSION:2.0
PRODID:-//hacksw/handcal//NONSGML v1.0//EN
BEGIN:VEVENT
DTSTAMP:20260502T144500
DTSTART:20260502T144500
DTEND:20260502T151500
SUMMARY:Inspection
LOCATION:25 Gleeson Street Trentham VIC 3458
DESCRIPTION:
UID:5ed1a228-a33d-49db-a261-c64d6426af3f@enlivenai.com.au
END:VEVENT
END:VCALENDAR
