BEGIN:VCALENDAR
METHOD:PUBLISH
VERSION:2.0
PRODID:-//hacksw/handcal//NONSGML v1.0//EN
BEGIN:VEVENT
DTSTAMP:20260430T180000
DTSTART:20260430T180000
DTEND:20260430T183000
SUMMARY:Inspection
LOCATION:2A Salisbury Avenue Bexley NSW 2207
DESCRIPTION:
UID:158eccd1-f840-4229-bdfd-01d4fda05af3@enlivenai.com.au
END:VEVENT
END:VCALENDAR
