BEGIN:VCALENDAR
METHOD:PUBLISH
VERSION:2.0
PRODID:-//hacksw/handcal//NONSGML v1.0//EN
BEGIN:VEVENT
DTSTAMP:20260502T151500
DTSTART:20260502T151500
DTEND:20260502T154500
SUMMARY:Inspection
LOCATION:17/1 Lyndhurst Street Richmond VIC 3121
DESCRIPTION:
UID:f4edf84e-f161-4c6a-b7d6-fda1732d1cdd@enlivenai.com.au
END:VEVENT
END:VCALENDAR
