BEGIN:VCALENDAR
METHOD:PUBLISH
VERSION:2.0
PRODID:-//hacksw/handcal//NONSGML v1.0//EN
BEGIN:VEVENT
DTSTAMP:20260426T130000
DTSTART:20260426T130000
DTEND:20260426T133000
SUMMARY:Inspection
LOCATION:17/1 Lyndhurst Street Richmond VIC 3121
DESCRIPTION:
UID:d74de82c-1406-4bab-b037-4604d69cd570@enlivenai.com.au
END:VEVENT
END:VCALENDAR
