BEGIN:VCALENDAR
METHOD:PUBLISH
VERSION:2.0
PRODID:-//hacksw/handcal//NONSGML v1.0//EN
BEGIN:VEVENT
DTSTAMP:20260422T113000
DTSTART:20260422T113000
DTEND:20260422T114500
SUMMARY:Inspection
LOCATION:91 Miller Street Pyrmont NSW 2009
DESCRIPTION:
UID:f845d78e-281a-4c42-aaa0-e34803d27c81@enlivenai.com.au
END:VEVENT
END:VCALENDAR
