BEGIN:VCALENDAR
METHOD:PUBLISH
VERSION:2.0
PRODID:-//hacksw/handcal//NONSGML v1.0//EN
BEGIN:VEVENT
DTSTAMP:20260428T171000
DTSTART:20260428T171000
DTEND:20260428T173000
SUMMARY:Inspection
LOCATION:3/1-3 Fraser Street Randwick NSW 2031
DESCRIPTION:
UID:51cd6fc6-eed4-463d-8bde-6a715d3a2d76@enlivenai.com.au
END:VEVENT
END:VCALENDAR
