BEGIN:VCALENDAR
METHOD:PUBLISH
VERSION:2.0
PRODID:-//hacksw/handcal//NONSGML v1.0//EN
BEGIN:VEVENT
DTSTAMP:20260502T111500
DTSTART:20260502T111500
DTEND:20260502T114500
SUMMARY:Inspection
LOCATION:303/183 Bridge  Road Richmond VIC 3121
DESCRIPTION:
UID:5663f910-a95b-4863-a7dc-2b41355d63a4@enlivenai.com.au
END:VEVENT
END:VCALENDAR
