BEGIN:VCALENDAR
METHOD:PUBLISH
VERSION:2.0
PRODID:-//hacksw/handcal//NONSGML v1.0//EN
BEGIN:VEVENT
DTSTAMP:20260430T121500
DTSTART:20260430T121500
DTEND:20260430T124500
SUMMARY:Inspection
LOCATION:303/183 Bridge  Road Richmond VIC 3121
DESCRIPTION:
UID:af1929e0-033c-419a-8bad-6f79997c55ba@enlivenai.com.au
END:VEVENT
END:VCALENDAR
