BEGIN:VCALENDAR
METHOD:PUBLISH
VERSION:2.0
PRODID:-//hacksw/handcal//NONSGML v1.0//EN
BEGIN:VEVENT
DTSTAMP:20260506T110000
DTSTART:20260506T110000
DTEND:20260506T113000
SUMMARY:Inspection
LOCATION:14 Dalton Road Mosman NSW 2088
DESCRIPTION:
UID:37ba50d9-26c7-48a7-8aa0-b7cb9994dd2c@enlivenai.com.au
END:VEVENT
END:VCALENDAR
