BEGIN:VCALENDAR
METHOD:PUBLISH
VERSION:2.0
PRODID:-//hacksw/handcal//NONSGML v1.0//EN
BEGIN:VEVENT
DTSTAMP:20260429T152500
DTSTART:20260429T152500
DTEND:20260429T154000
SUMMARY:Inspection
LOCATION:5/19-23 Queens Avenue Parramatta NSW 2150
DESCRIPTION:
UID:73986f09-648c-41fa-9a5f-c6a96e2bd8ef@enlivenai.com.au
END:VEVENT
END:VCALENDAR
