BEGIN:VCALENDAR
METHOD:PUBLISH
VERSION:2.0
PRODID:-//hacksw/handcal//NONSGML v1.0//EN
BEGIN:VEVENT
DTSTAMP:20260424T103000
DTSTART:20260424T103000
DTEND:20260424T104500
SUMMARY:Inspection
LOCATION:8/1-5 The Strand Rockdale NSW 2216
DESCRIPTION:
UID:1ea4e340-8475-4359-8a93-d91299c97781@enlivenai.com.au
END:VEVENT
END:VCALENDAR
