BEGIN:VCALENDAR
METHOD:PUBLISH
VERSION:2.0
PRODID:-//hacksw/handcal//NONSGML v1.0//EN
BEGIN:VEVENT
DTSTAMP:20260425T135000
DTSTART:20260425T135000
DTEND:20260425T142000
SUMMARY:Inspection
LOCATION:103/166 Flinders Street Melbourne VIC 3000
DESCRIPTION:
UID:0751f432-3c03-4200-8c75-e73c58a2bb30@enlivenai.com.au
END:VEVENT
END:VCALENDAR
