BEGIN:VCALENDAR
METHOD:PUBLISH
VERSION:2.0
PRODID:-//hacksw/handcal//NONSGML v1.0//EN
BEGIN:VEVENT
DTSTAMP:20260422T150000
DTSTART:20260422T150000
DTEND:20260422T153000
SUMMARY:Inspection
LOCATION:2/542 Bluff  Road Hampton VIC 3188
DESCRIPTION:
UID:c32d0670-a834-4d3f-bcba-9963aff7d739@enlivenai.com.au
END:VEVENT
END:VCALENDAR
