BEGIN:VCALENDAR
METHOD:PUBLISH
VERSION:2.0
PRODID:-//hacksw/handcal//NONSGML v1.0//EN
BEGIN:VEVENT
DTSTAMP:20260422T180000
DTSTART:20260422T180000
DTEND:20260422T183000
SUMMARY:Inspection
LOCATION:11/13-14 North Esplanade Glenelg North SA 5045
DESCRIPTION:
UID:bde3db93-4ece-40f1-a036-23975cad8e4c@enlivenai.com.au
END:VEVENT
END:VCALENDAR
