BEGIN:VCALENDAR
METHOD:PUBLISH
VERSION:2.0
PRODID:-//hacksw/handcal//NONSGML v1.0//EN
BEGIN:VEVENT
DTSTAMP:20260426T121500
DTSTART:20260426T121500
DTEND:20260426T124500
SUMMARY:Inspection
LOCATION:20 Iris Street Dromana VIC 3936
DESCRIPTION:
UID:09fdd239-a32e-4de7-9b14-3bc262e58a2d@enlivenai.com.au
END:VEVENT
END:VCALENDAR
