BEGIN:VCALENDAR
METHOD:PUBLISH
VERSION:2.0
PRODID:-//hacksw/handcal//NONSGML v1.0//EN
BEGIN:VEVENT
DTSTAMP:20260502T103000
DTSTART:20260502T103000
DTEND:20260502T110000
SUMMARY:Inspection
LOCATION:205/2 Jones Bay  Road Pyrmont NSW 2009
DESCRIPTION:
UID:e5490823-96e7-4811-a0b9-982f2c0fa20e@enlivenai.com.au
END:VEVENT
END:VCALENDAR
