BEGIN:VCALENDAR
METHOD:PUBLISH
VERSION:2.0
PRODID:-//hacksw/handcal//NONSGML v1.0//EN
BEGIN:VEVENT
DTSTAMP:20260429T123000
DTSTART:20260429T123000
DTEND:20260429T130000
SUMMARY:Inspection
LOCATION:205/2 Jones Bay  Road Pyrmont NSW 2009
DESCRIPTION:
UID:c4feb198-2958-427e-931c-168e63eeb7c5@enlivenai.com.au
END:VEVENT
END:VCALENDAR
