BEGIN:VCALENDAR
METHOD:PUBLISH
VERSION:2.0
PRODID:-//hacksw/handcal//NONSGML v1.0//EN
BEGIN:VEVENT
DTSTAMP:20260428T163000
DTSTART:20260428T163000
DTEND:20260428T164500
SUMMARY:Inspection
LOCATION:29/150 Healy Road Hamilton Hill WA 6163
DESCRIPTION:
UID:0eb38305-4dfe-453f-b522-1d45fb7b29ea@enlivenai.com.au
END:VEVENT
END:VCALENDAR
