BEGIN:VCALENDAR
METHOD:PUBLISH
VERSION:2.0
PRODID:-//hacksw/handcal//NONSGML v1.0//EN
BEGIN:VEVENT
DTSTAMP:20260501T154500
DTSTART:20260501T154500
DTEND:20260501T161500
SUMMARY:Inspection
LOCATION:13 Gillman Place Queanbeyan NSW 2620
DESCRIPTION:
UID:9b5f8a6b-9d79-4d0c-9faa-c3e7f94c2349@enlivenai.com.au
END:VEVENT
END:VCALENDAR
