BEGIN:VCALENDAR
METHOD:PUBLISH
VERSION:2.0
PRODID:-//hacksw/handcal//NONSGML v1.0//EN
BEGIN:VEVENT
DTSTAMP:20260426T110000
DTSTART:20260426T110000
DTEND:20260426T113000
SUMMARY:Inspection
LOCATION:510/4-14 Burke Avenue Hawthorn East VIC 3123
DESCRIPTION:
UID:035ba979-74be-4ba8-bc70-7cb6d041a366@enlivenai.com.au
END:VEVENT
END:VCALENDAR
