BEGIN:VCALENDAR
METHOD:PUBLISH
VERSION:2.0
PRODID:-//hacksw/handcal//NONSGML v1.0//EN
BEGIN:VEVENT
DTSTAMP:20260506T120000
DTSTART:20260506T120000
DTEND:20260506T123000
SUMMARY:Inspection
LOCATION:6/1 York Street Prahran VIC 3181
DESCRIPTION:
UID:f3dc0d0e-3d7c-4020-ba6c-a4a9bb7e57d4@enlivenai.com.au
END:VEVENT
END:VCALENDAR
