BEGIN:VCALENDAR
METHOD:PUBLISH
VERSION:2.0
PRODID:-//hacksw/handcal//NONSGML v1.0//EN
BEGIN:VEVENT
DTSTAMP:20260422T110000
DTSTART:20260422T110000
DTEND:20260422T111500
SUMMARY:Inspection
LOCATION:202/356 Barkly Street Elwood VIC 3184
DESCRIPTION:
UID:a9b92115-c28b-4caa-b19b-33b55eca2bbd@enlivenai.com.au
END:VEVENT
END:VCALENDAR
