BEGIN:VCALENDAR
METHOD:PUBLISH
VERSION:2.0
PRODID:-//hacksw/handcal//NONSGML v1.0//EN
BEGIN:VEVENT
DTSTAMP:20260421T110000
DTSTART:20260421T110000
DTEND:20260421T111500
SUMMARY:Inspection
LOCATION:202/356 Barkly Street Elwood VIC 3184
DESCRIPTION:
UID:36863838-7f3c-42c0-a523-c7c50e544c6f@enlivenai.com.au
END:VEVENT
END:VCALENDAR
