BEGIN:VCALENDAR
METHOD:PUBLISH
VERSION:2.0
PRODID:-//hacksw/handcal//NONSGML v1.0//EN
BEGIN:VEVENT
DTSTAMP:20260506T170000
DTSTART:20260506T170000
DTEND:20260506T173000
SUMMARY:Inspection
LOCATION:13 Kingston Street Haberfield NSW 2045
DESCRIPTION:
UID:b51871e1-a80f-497e-af03-8f68d91df2dd@enlivenai.com.au
END:VEVENT
END:VCALENDAR
