BEGIN:VCALENDAR
METHOD:PUBLISH
VERSION:2.0
PRODID:-//hacksw/handcal//NONSGML v1.0//EN
BEGIN:VEVENT
DTSTAMP:20260428T100000
DTSTART:20260428T100000
DTEND:20260428T103000
SUMMARY:Inspection
LOCATION:32 Sky Drive Highvale QLD 4520
DESCRIPTION:
UID:655b6c96-271d-4be5-81e8-ec5c218d4673@enlivenai.com.au
END:VEVENT
END:VCALENDAR
