BEGIN:VCALENDAR
METHOD:PUBLISH
VERSION:2.0
PRODID:-//hacksw/handcal//NONSGML v1.0//EN
BEGIN:VEVENT
DTSTAMP:20260502T121500
DTSTART:20260502T121500
DTEND:20260502T123000
SUMMARY:Inspection
LOCATION:1705/10 Claremont Street South Yarra VIC 3141
DESCRIPTION:
UID:376a5212-79a2-4b18-9aa8-c0721c67da67@enlivenai.com.au
END:VEVENT
END:VCALENDAR
