BEGIN:VCALENDAR
METHOD:PUBLISH
VERSION:2.0
PRODID:-//hacksw/handcal//NONSGML v1.0//EN
BEGIN:VEVENT
DTSTAMP:20260426T123000
DTSTART:20260426T123000
DTEND:20260426T124500
SUMMARY:Inspection
LOCATION:1705/10 Claremont Street South Yarra VIC 3141
DESCRIPTION:
UID:a2a6c484-bfb0-4ff5-9cb3-f8020caedd3f@enlivenai.com.au
END:VEVENT
END:VCALENDAR
