BEGIN:VCALENDAR
METHOD:PUBLISH
VERSION:2.0
PRODID:-//hacksw/handcal//NONSGML v1.0//EN
BEGIN:VEVENT
DTSTAMP:20260421T170000
DTSTART:20260421T170000
DTEND:20260421T171500
SUMMARY:Inspection
LOCATION:76/1-3 Clarence Street Strathfield NSW 2135
DESCRIPTION:
UID:15d0a984-4fb6-4c7c-acec-712babf0b879@enlivenai.com.au
END:VEVENT
END:VCALENDAR
