BEGIN:VCALENDAR
METHOD:PUBLISH
VERSION:2.0
PRODID:-//hacksw/handcal//NONSGML v1.0//EN
BEGIN:VEVENT
DTSTAMP:20260516T104500
DTSTART:20260516T104500
DTEND:20260516T111500
SUMMARY:Inspection
LOCATION:307/50-58 Macleay Street Elizabeth Bay NSW 2011
DESCRIPTION:
UID:feb2d48d-9378-4f87-85b2-6847cf57cbbd@enlivenai.com.au
END:VEVENT
END:VCALENDAR
