BEGIN:VCALENDAR
METHOD:PUBLISH
VERSION:2.0
PRODID:-//hacksw/handcal//NONSGML v1.0//EN
BEGIN:VEVENT
DTSTAMP:20260509T104500
DTSTART:20260509T104500
DTEND:20260509T111500
SUMMARY:Inspection
LOCATION:307/50-58 Macleay Street Elizabeth Bay NSW 2011
DESCRIPTION:
UID:e5115b6d-b3a6-492d-b06e-6bcfe6ec9ecf@enlivenai.com.au
END:VEVENT
END:VCALENDAR
