BEGIN:VCALENDAR
METHOD:PUBLISH
VERSION:2.0
PRODID:-//hacksw/handcal//NONSGML v1.0//EN
BEGIN:VEVENT
DTSTAMP:20260429T173000
DTSTART:20260429T173000
DTEND:20260429T180000
SUMMARY:Inspection
LOCATION:19 Brighton Parade Brighton-Le-Sands NSW 2216
DESCRIPTION:
UID:d7c409af-b1d3-49cf-9c67-2a2d7802b914@enlivenai.com.au
END:VEVENT
END:VCALENDAR
