BEGIN:VCALENDAR
METHOD:PUBLISH
VERSION:2.0
PRODID:-//hacksw/handcal//NONSGML v1.0//EN
BEGIN:VEVENT
DTSTAMP:20260425T131500
DTSTART:20260425T131500
DTEND:20260425T134500
SUMMARY:Inspection
LOCATION:69 Dugdale Street Cook ACT 2614
DESCRIPTION:
UID:e3f90245-abc3-4fc9-8813-9d57395fc8b0@enlivenai.com.au
END:VEVENT
END:VCALENDAR
