BEGIN:VCALENDAR
METHOD:PUBLISH
VERSION:2.0
PRODID:-//hacksw/handcal//NONSGML v1.0//EN
BEGIN:VEVENT
DTSTAMP:20260424T122000
DTSTART:20260424T122000
DTEND:20260424T123500
SUMMARY:Inspection
LOCATION:2/17 Tassell Street Hadfield VIC 3046
DESCRIPTION:
UID:dba735b5-0312-42a3-bb28-9c843d819c90@enlivenai.com.au
END:VEVENT
END:VCALENDAR
