BEGIN:VCALENDAR
METHOD:PUBLISH
VERSION:2.0
PRODID:-//hacksw/handcal//NONSGML v1.0//EN
BEGIN:VEVENT
DTSTAMP:20260502T134500
DTSTART:20260502T134500
DTEND:20260502T141500
SUMMARY:Inspection
LOCATION:12/166 - 176 Oberon Street Coogee NSW 2034
DESCRIPTION:
UID:98af270f-dc82-4651-bd59-7e4792fe253c@enlivenai.com.au
END:VEVENT
END:VCALENDAR
