BEGIN:VCALENDAR
METHOD:PUBLISH
VERSION:2.0
PRODID:-//hacksw/handcal//NONSGML v1.0//EN
BEGIN:VEVENT
DTSTAMP:20260423T134500
DTSTART:20260423T134500
DTEND:20260423T141500
SUMMARY:Inspection
LOCATION:12/166 - 176 Oberon Street Coogee NSW 2034
DESCRIPTION:
UID:3f729064-a6ac-4b6f-a1fc-7973bc961a6f@enlivenai.com.au
END:VEVENT
END:VCALENDAR
