BEGIN:VCALENDAR
METHOD:PUBLISH
VERSION:2.0
PRODID:-//hacksw/handcal//NONSGML v1.0//EN
BEGIN:VEVENT
DTSTAMP:20260509T134500
DTSTART:20260509T134500
DTEND:20260509T141500
SUMMARY:Inspection
LOCATION:25/45 Trafalgar Street Annandale NSW 2038
DESCRIPTION:
UID:71c070a9-d3f9-42f4-9a66-375291df321e@enlivenai.com.au
END:VEVENT
END:VCALENDAR
